BEGIN:VCALENDAR
VERSION:2.0
PRODID:-// - ECPv6.15.18//NONSGML v1.0//EN
CALSCALE:GREGORIAN
METHOD:PUBLISH
X-ORIGINAL-URL:https://www.wec-france.org
X-WR-CALDESC:Évènements pour 
REFRESH-INTERVAL;VALUE=DURATION:PT1H
X-Robots-Tag:noindex
X-PUBLISHED-TTL:PT1H
BEGIN:VTIMEZONE
TZID:Europe/Paris
BEGIN:DAYLIGHT
TZOFFSETFROM:+0100
TZOFFSETTO:+0200
TZNAME:CEST
DTSTART:20250330T010000
END:DAYLIGHT
BEGIN:STANDARD
TZOFFSETFROM:+0200
TZOFFSETTO:+0100
TZNAME:CET
DTSTART:20251026T010000
END:STANDARD
BEGIN:DAYLIGHT
TZOFFSETFROM:+0100
TZOFFSETTO:+0200
TZNAME:CEST
DTSTART:20260329T010000
END:DAYLIGHT
BEGIN:STANDARD
TZOFFSETFROM:+0200
TZOFFSETTO:+0100
TZNAME:CET
DTSTART:20261025T010000
END:STANDARD
BEGIN:DAYLIGHT
TZOFFSETFROM:+0100
TZOFFSETTO:+0200
TZNAME:CEST
DTSTART:20270328T010000
END:DAYLIGHT
BEGIN:STANDARD
TZOFFSETFROM:+0200
TZOFFSETTO:+0100
TZNAME:CET
DTSTART:20271031T010000
END:STANDARD
END:VTIMEZONE
BEGIN:VEVENT
DTSTART;VALUE=DATE:20260614
DTEND;VALUE=DATE:20260618
DTSTAMP:20260424T000841
CREATED:20260123T091457Z
LAST-MODIFIED:20260123T091525Z
UID:487726-1781395200-1781740799@www.wec-france.org
SUMMARY:WEC Central & Eastern Europe Energy Forum (FOREN)
DESCRIPTION:The World Energy Council Central & Eastern Europe Energy Forum\, organised every two years\, is the most important regional event and exhibition hosted by the Romanian National Committee of the World Energy Council (WEC/RNC). It serves as a reference for energy specialists in Central and Eastern Europe. The Forum is organised under the auspices of the Romanian Government\, with the coordination by the World Energy Council and the kind support of the World Energy Council Member Committees (WEC MCs) in Central and Eastern Europe!
URL:https://www.wec-france.org/evenement/487726/
LOCATION:Neptun International Conference Centre\, Doina Complex\, Neptun International Conference Centre\, Doina Complex\, Romania
CATEGORIES:Événements CFE/CME
END:VEVENT
END:VCALENDAR