BEGIN:VCALENDAR
VERSION:2.0
PRODID:-// - ECPv6.15.18//NONSGML v1.0//EN
CALSCALE:GREGORIAN
METHOD:PUBLISH
X-ORIGINAL-URL:https://www.wec-france.org
X-WR-CALDESC:Évènements pour 
REFRESH-INTERVAL;VALUE=DURATION:PT1H
X-Robots-Tag:noindex
X-PUBLISHED-TTL:PT1H
BEGIN:VTIMEZONE
TZID:Europe/Paris
BEGIN:DAYLIGHT
TZOFFSETFROM:+0100
TZOFFSETTO:+0200
TZNAME:CEST
DTSTART:20250330T010000
END:DAYLIGHT
BEGIN:STANDARD
TZOFFSETFROM:+0200
TZOFFSETTO:+0100
TZNAME:CET
DTSTART:20251026T010000
END:STANDARD
BEGIN:DAYLIGHT
TZOFFSETFROM:+0100
TZOFFSETTO:+0200
TZNAME:CEST
DTSTART:20260329T010000
END:DAYLIGHT
BEGIN:STANDARD
TZOFFSETFROM:+0200
TZOFFSETTO:+0100
TZNAME:CET
DTSTART:20261025T010000
END:STANDARD
BEGIN:DAYLIGHT
TZOFFSETFROM:+0100
TZOFFSETTO:+0200
TZNAME:CEST
DTSTART:20270328T010000
END:DAYLIGHT
BEGIN:STANDARD
TZOFFSETFROM:+0200
TZOFFSETTO:+0100
TZNAME:CET
DTSTART:20271031T010000
END:STANDARD
END:VTIMEZONE
BEGIN:VEVENT
DTSTART;TZID=Europe/Paris:20260512T180000
DTEND;TZID=Europe/Paris:20260512T193000
DTSTAMP:20260423T210751
CREATED:20260423T135729Z
LAST-MODIFIED:20260423T135729Z
UID:487950-1778608800-1778614200@www.wec-france.org
SUMMARY:Briefing des membres | Échange sur le rapport « Optimisation du soutien public aux EnR électriques et au stockage » avec Jean-Bernard Lévy
DESCRIPTION:Le Conseil Français de l’Énergie donne rendez-vous à ses membres le 12 mai de 18h00 à 19h30 pour le prochain Briefing des membres qui aura lieu en présentiel exclusivement à Paris (lieu communiqué ultérieurement) avec comme intervenant :\n\n \n\n| Jean-Bernard Lévy\, Président du Conseil Français de l’Énergie\n\n \n\nÉchange sur le rapport\n« Optimisation du soutien public aux EnR électriques et au stockage »\n\n \n\nEn décembre 2025\, le Premier ministre a confié à Jean-Bernard Lévy (Président du Conseil Français de l’Énergie) et Thierry Tuot (Président de section au Conseil d’État) une mission visant à repenser les dispositifs de soutien public aux énergies renouvelables électriques et au stockage.\n\n \n\nRemis au Premier ministre le 9 avril 2026\, le rapport formule 45 recommandations portant sur l’éolien\, le photovoltaïque et les batteries\, en France continentale.\n\n \n\n⚠️ Évènement réservé aux collaborateurs des organisations membres du Conseil Français de l’Énergie (voir liste ici). \nPlaces limitées – inscription obligatoire : conseil_francais_energie@wec-france.org
URL:https://www.wec-france.org/evenement/briefing-des-membres-echange-sur-le-rapport-optimisation-du-soutien-public-aux-enr-electriques-et-au-stockage-avec-jean-bernard-levy/
CATEGORIES:Événements CFE/CME
END:VEVENT
END:VCALENDAR