BEGIN:VCALENDAR
VERSION:2.0
PRODID:-// - ECPv6.15.18//NONSGML v1.0//EN
CALSCALE:GREGORIAN
METHOD:PUBLISH
X-ORIGINAL-URL:https://www.wec-france.org
X-WR-CALDESC:Évènements pour 
REFRESH-INTERVAL;VALUE=DURATION:PT1H
X-Robots-Tag:noindex
X-PUBLISHED-TTL:PT1H
BEGIN:VTIMEZONE
TZID:Europe/Paris
BEGIN:DAYLIGHT
TZOFFSETFROM:+0100
TZOFFSETTO:+0200
TZNAME:CEST
DTSTART:20250330T010000
END:DAYLIGHT
BEGIN:STANDARD
TZOFFSETFROM:+0200
TZOFFSETTO:+0100
TZNAME:CET
DTSTART:20251026T010000
END:STANDARD
BEGIN:DAYLIGHT
TZOFFSETFROM:+0100
TZOFFSETTO:+0200
TZNAME:CEST
DTSTART:20260329T010000
END:DAYLIGHT
BEGIN:STANDARD
TZOFFSETFROM:+0200
TZOFFSETTO:+0100
TZNAME:CET
DTSTART:20261025T010000
END:STANDARD
BEGIN:DAYLIGHT
TZOFFSETFROM:+0100
TZOFFSETTO:+0200
TZNAME:CEST
DTSTART:20270328T010000
END:DAYLIGHT
BEGIN:STANDARD
TZOFFSETFROM:+0200
TZOFFSETTO:+0100
TZNAME:CET
DTSTART:20271031T010000
END:STANDARD
END:VTIMEZONE
BEGIN:VEVENT
DTSTART;TZID=Europe/Paris:20260408T130000
DTEND;TZID=Europe/Paris:20260408T140000
DTSTAMP:20260423T192619
CREATED:20260330T103208Z
LAST-MODIFIED:20260401T141834Z
UID:487904-1775653200-1775656800@www.wec-france.org
SUMMARY:Facing the energy trilemma in turbulent times: perspectives from France and Europe
DESCRIPTION:Geopolitics\, climate\, affordability – the energy trilemma may never have been harder to navigate. \nOn 8 April\, join the new edition of World Energy Bridges – an international webinar series organised by the Committee on Energy of the World Federation of Engineering Organizations and the World Energy Council France – and explore how the energy trilemma is being tackled in practice. \nFacing the Energy Trilemma in Turbulent Times: Perspectives from France and Europe  \nWednesday 8 April 2026 \n1:00 – 2:00 PM CEST \n\n\n \n\n\n\nWith: \n\n\n\n\nLaurent KUENY\, Director of Energy\, Ministry of Energy\, France \nSandra WINKLER\, Senior Director\, Insights\, World Energy Council\n\nMarie-Line VAIANI\, Chair\, WFEO Committee on Energy and Member\, UN Council of Engineers for the Energy TransitionQuestions from participants will be welcome. \n  \nAbout the World Energy Bridges webinar series \nWorld Energy Bridges is an initiative launched by the WFEO Committee on Energy under the leadership of its Chair. \n It connects energy professionals\, engineers and policymakers across the world to share expertise and real-world experience on energy policy\, technology and innovation. \nSince its launch\, the series has brought together experts and leaders from Africa\, Asia-Pacific\, Europe and the Americas: \n• “Electricity Access Gaps and Policy Recommendations” – Prof. Abubakar Sambo\, Vice-Chair Africa\, WFEO Committee on Energy \n• “Why is Nuclear Power Making a Comeback” – Dr. Henri Paillere\, Head of the Planning and Economic Studies Section\, International Atomic Energy Agency \n• “PV Module Recycling as a Necessity” – Dr Carsten Ahrens\, Chair of WFEO Solar Task Group and Prof. Yogi Goswami\, Member of WFEO Committee on Energy \n• “AI for Power Systems” – Dr. Yishen Wang\, Department of AI\, China Electric Power Research Institute \n• “Global Energy Trends: Continued Growth in Energy Consumption and Emissions” – Quentin Bchini\, Head of Research\, Enerdata \nWould you like to suggest a theme or share your region’s energy experience in a future edition? Contact us.
URL:https://www.wec-france.org/evenement/facing-the-energy-trilemma-in-turbulent-times-perspective-from-france-and-europe/
CATEGORIES:Événements CFE/CME
END:VEVENT
END:VCALENDAR