BEGIN:VCALENDAR
VERSION:2.0
PRODID:-// - ECPv6.15.18//NONSGML v1.0//EN
CALSCALE:GREGORIAN
METHOD:PUBLISH
X-ORIGINAL-URL:https://www.wec-france.org
X-WR-CALDESC:Évènements pour 
REFRESH-INTERVAL;VALUE=DURATION:PT1H
X-Robots-Tag:noindex
X-PUBLISHED-TTL:PT1H
BEGIN:VTIMEZONE
TZID:Europe/Paris
BEGIN:DAYLIGHT
TZOFFSETFROM:+0100
TZOFFSETTO:+0200
TZNAME:CEST
DTSTART:20250330T010000
END:DAYLIGHT
BEGIN:STANDARD
TZOFFSETFROM:+0200
TZOFFSETTO:+0100
TZNAME:CET
DTSTART:20251026T010000
END:STANDARD
BEGIN:DAYLIGHT
TZOFFSETFROM:+0100
TZOFFSETTO:+0200
TZNAME:CEST
DTSTART:20260329T010000
END:DAYLIGHT
BEGIN:STANDARD
TZOFFSETFROM:+0200
TZOFFSETTO:+0100
TZNAME:CET
DTSTART:20261025T010000
END:STANDARD
BEGIN:DAYLIGHT
TZOFFSETFROM:+0100
TZOFFSETTO:+0200
TZNAME:CEST
DTSTART:20270328T010000
END:DAYLIGHT
BEGIN:STANDARD
TZOFFSETFROM:+0200
TZOFFSETTO:+0100
TZNAME:CET
DTSTART:20271031T010000
END:STANDARD
END:VTIMEZONE
BEGIN:VEVENT
DTSTART;TZID=Europe/Paris:20260330T183000
DTEND;TZID=Europe/Paris:20260330T200000
DTSTAMP:20260423T193924
CREATED:20251215T103545Z
LAST-MODIFIED:20260313T152313Z
UID:487282-1774895400-1774900800@www.wec-france.org
SUMMARY:Comment développer des filières stratégiques et réduire nos dépendances industrielles dans le secteur de l’énergie : photovoltaïque\, éolien en mer\, batteries… ?
DESCRIPTION:Réunion mensuelle des Young Energy Professionals avec l’intervention d’Oliver Plantet (DGE) :\n« Comment développer des filières stratégiques et réduire nos dépendances industrielles dans le secteur de l’énergie : photovoltaïque\, éolien en mer\, batteries… ? » \nLe programme Future Energy Leaders du Conseil Mondial de l’Énergie rassemble une centaine de jeunes appelés à être demain des acteurs clés du secteur de l’énergie.\nEn écho à ce réseau international\, le Conseil Français de l’Énergie\, comité français du Conseil Mondial de l’Énergie\, a créé les YEP – Young Energy Professionals\, amenés à interagir avec les jeunes d’autres pays.\nCe collectif offre aux jeunes professionnels de l’énergie ou aux étudiants avertis en fin de formation une plateforme pour débattre des questions énergétiques pertinentes\, rencontrer les acteurs d’aujourd’hui et développer des projets propres. Ce sont aussi des occasions de réseautage et la possibilité de participer aux activités du Conseil Français de l’Énergie (groupes de travail\, interventions lors d’évènements…). Les YEP\, c’est un lieu d’échanges et de débats qui\, à l’image du Conseil Français de l’Énergie\, se situe au carrefour de toutes les énergies et toutes les technologies\, des acteurs et des métiers.
URL:https://www.wec-france.org/evenement/reunion-de-coordination-des-young-energy-professionnals-4/
CATEGORIES:Événements CFE/CME
ORGANIZER;CN="CFE":MAILTO:comm@wec-france.org
END:VEVENT
END:VCALENDAR