BEGIN:VCALENDAR
VERSION:2.0
PRODID:-// - ECPv6.15.18//NONSGML v1.0//EN
CALSCALE:GREGORIAN
METHOD:PUBLISH
X-ORIGINAL-URL:https://www.wec-france.org
X-WR-CALDESC:Évènements pour 
REFRESH-INTERVAL;VALUE=DURATION:PT1H
X-Robots-Tag:noindex
X-PUBLISHED-TTL:PT1H
BEGIN:VTIMEZONE
TZID:Europe/Paris
BEGIN:DAYLIGHT
TZOFFSETFROM:+0100
TZOFFSETTO:+0200
TZNAME:CEST
DTSTART:20250330T010000
END:DAYLIGHT
BEGIN:STANDARD
TZOFFSETFROM:+0200
TZOFFSETTO:+0100
TZNAME:CET
DTSTART:20251026T010000
END:STANDARD
BEGIN:DAYLIGHT
TZOFFSETFROM:+0100
TZOFFSETTO:+0200
TZNAME:CEST
DTSTART:20260329T010000
END:DAYLIGHT
BEGIN:STANDARD
TZOFFSETFROM:+0200
TZOFFSETTO:+0100
TZNAME:CET
DTSTART:20261025T010000
END:STANDARD
BEGIN:DAYLIGHT
TZOFFSETFROM:+0100
TZOFFSETTO:+0200
TZNAME:CEST
DTSTART:20270328T010000
END:DAYLIGHT
BEGIN:STANDARD
TZOFFSETFROM:+0200
TZOFFSETTO:+0100
TZNAME:CET
DTSTART:20271031T010000
END:STANDARD
END:VTIMEZONE
BEGIN:VEVENT
DTSTART;TZID=Europe/Paris:20260217T183000
DTEND;TZID=Europe/Paris:20260217T200000
DTSTAMP:20260423T223426
CREATED:20260203T095204Z
LAST-MODIFIED:20260212T123854Z
UID:487763-1771353000-1771358400@www.wec-france.org
SUMMARY:Ambassadrices de l'énergie | Angela Wilkinson\, World Energy Council
DESCRIPTION:[ Ambassadrices de l’énergie – Dialogue ]  Pour le prochain rendez-vous « Ambassadrices de l’énergie »\, espace de dialogue informel avec une dirigeante du secteur de l’énergie\, notre secrétaire générale Marie-Line Vaiani et le groupe des jeunes professionnels (YEP France) échangeront le 17 février\, de 18h30 à 20h00\, avec Dr Angela Wilkinson\, Secretary General & CEO du World Energy Council. \nAngela Wilkinson témoignera de son parcours (*) et partagera sa vision des enjeux énergétiques mondiaux. \n(*) Angela is one of the world’s leading global energy futures experts\, an experienced energy executive\, a distinguished Oxford scholar and a published author. She has 30 years of experience in leading national\, international and global multi-stakeholder transformation initiatives on a wide range of economic\, energy\, climate and sustainable development related challenges. \nAngela has worked as a senior executive in the public-\, private-\, academic- and civic sectors. She was appointed Secretary General and CEO of the World Energy Council in 2019. Angela joined the Council in 2017 to create a practical energy transition leaders toolkit and direct a new strategic insights programme. Prior to that Angela led an upgrade in strategic foresight at the OECD\, based in Paris. Prior corporate experience includes decades in Royal Dutch Shell and British Gas plc. \nAngela is a Fellow of the U.S. Government Accountability Office (GAO) Centre for Strategic Foresight and a Fellow of the World Academy of Arts and Science (WAAS). She has published four books and numerous articles. Angela has a PhD in Physics. \nÉvénement sur invitation – en présentiel\, et en anglais.\nPour plus d’information\, merci d’écrire à comm@wec-france.org.
URL:https://www.wec-france.org/evenement/ambassadrices-de-lenergie-angela-wilkinson-world-energy-council/
CATEGORIES:Événements CFE/CME
END:VEVENT
END:VCALENDAR