BEGIN:VCALENDAR
VERSION:2.0
PRODID:-// - ECPv6.15.18//NONSGML v1.0//EN
CALSCALE:GREGORIAN
METHOD:PUBLISH
X-ORIGINAL-URL:https://www.wec-france.org
X-WR-CALDESC:Évènements pour 
REFRESH-INTERVAL;VALUE=DURATION:PT1H
X-Robots-Tag:noindex
X-PUBLISHED-TTL:PT1H
BEGIN:VTIMEZONE
TZID:Europe/Paris
BEGIN:DAYLIGHT
TZOFFSETFROM:+0100
TZOFFSETTO:+0200
TZNAME:CEST
DTSTART:20250330T010000
END:DAYLIGHT
BEGIN:STANDARD
TZOFFSETFROM:+0200
TZOFFSETTO:+0100
TZNAME:CET
DTSTART:20251026T010000
END:STANDARD
BEGIN:DAYLIGHT
TZOFFSETFROM:+0100
TZOFFSETTO:+0200
TZNAME:CEST
DTSTART:20260329T010000
END:DAYLIGHT
BEGIN:STANDARD
TZOFFSETFROM:+0200
TZOFFSETTO:+0100
TZNAME:CET
DTSTART:20261025T010000
END:STANDARD
BEGIN:DAYLIGHT
TZOFFSETFROM:+0100
TZOFFSETTO:+0200
TZNAME:CEST
DTSTART:20270328T010000
END:DAYLIGHT
BEGIN:STANDARD
TZOFFSETFROM:+0200
TZOFFSETTO:+0100
TZNAME:CET
DTSTART:20271031T010000
END:STANDARD
END:VTIMEZONE
BEGIN:VEVENT
DTSTART;TZID=Europe/Paris:20260127T160000
DTEND;TZID=Europe/Paris:20260127T171500
DTSTAMP:20260423T223303
CREATED:20260107T105825Z
LAST-MODIFIED:20260115T154346Z
UID:487602-1769529600-1769534100@www.wec-france.org
SUMMARY:World Energy Café | Resilience under pressure: Global lessons from recent blackout
DESCRIPTION:Recent large-scale power outages have disrupted critical infrastructure\, economic activity\, and daily life across multiple regions\, revealing mounting pressures on energy systems as they become cleaner\, more electrified\, and more interconnected. These events serve as stress tests\, exposing not just technical vulnerabilities\, but gaps in coordination\, governance\, market design\, and preparedness. \nThis WE Café will explore what recent blackouts reveal about the state of system resilience today. Moving beyond technical fault-finding\, the discussion will explore how operational practices\, emergency response protocols\, institutional cooperation\, and policy frameworks must evolve to anticipate disruptions rather than simply react to them. Bringing together experts from different parts of the system\, the session will highlight practical lessons and cross-border insights to help future-proof energy systems in an era of accelerating transition and rising complexity. \nHosted by WEC Chile\, WEC Portugal and WEC USA. \nWith: \n\nJuan Carlos Olmedo\, President of the Board at Coordinador Eléctrico Nacional\, Chile\nFrancisco Echavarren\, Researcher at the Technology Research Institute\, Spain\nAidan Tuohy\, Director of Research at EPRI\, USA\nPhilippe Joubert\, Founder & CEO at Earth on Bord\, France & Brasil\n\nRéservé aux membres du Conseil Français de l’Énergie
URL:https://www.wec-france.org/evenement/world-energy-cafe-resilience-under-pressure-global-lessons-from-recent-blackout/
CATEGORIES:Événements CFE/CME
END:VEVENT
END:VCALENDAR