BEGIN:VCALENDAR
VERSION:2.0
PRODID:-// - ECPv6.15.18//NONSGML v1.0//EN
CALSCALE:GREGORIAN
METHOD:PUBLISH
X-ORIGINAL-URL:https://www.wec-france.org
X-WR-CALDESC:Évènements pour 
REFRESH-INTERVAL;VALUE=DURATION:PT1H
X-Robots-Tag:noindex
X-PUBLISHED-TTL:PT1H
BEGIN:VTIMEZONE
TZID:Europe/Paris
BEGIN:DAYLIGHT
TZOFFSETFROM:+0100
TZOFFSETTO:+0200
TZNAME:CEST
DTSTART:20240331T010000
END:DAYLIGHT
BEGIN:STANDARD
TZOFFSETFROM:+0200
TZOFFSETTO:+0100
TZNAME:CET
DTSTART:20241027T010000
END:STANDARD
BEGIN:DAYLIGHT
TZOFFSETFROM:+0100
TZOFFSETTO:+0200
TZNAME:CEST
DTSTART:20250330T010000
END:DAYLIGHT
BEGIN:STANDARD
TZOFFSETFROM:+0200
TZOFFSETTO:+0100
TZNAME:CET
DTSTART:20251026T010000
END:STANDARD
BEGIN:DAYLIGHT
TZOFFSETFROM:+0100
TZOFFSETTO:+0200
TZNAME:CEST
DTSTART:20260329T010000
END:DAYLIGHT
BEGIN:STANDARD
TZOFFSETFROM:+0200
TZOFFSETTO:+0100
TZNAME:CET
DTSTART:20261025T010000
END:STANDARD
END:VTIMEZONE
BEGIN:VEVENT
DTSTART;VALUE=DATE:20251203
DTEND;VALUE=DATE:20251206
DTSTAMP:20260424T013956
CREATED:20251215T103526Z
LAST-MODIFIED:20251215T111052Z
UID:487274-1764720000-1764979199@www.wec-france.org
SUMMARY:Journées économiques Maroc-France à Casablanca
DESCRIPTION:La Chambre française de commerce et d’industrie du Maroc (CFCIM) organise en partenariat avec le Conseil Français de l’Énergie et les Morocco Energy Leaders les \nJournées économiques Maroc – France Focus énergie \n🗓 Date : du 03 au 05 décembre 2025 \n📍 Lieu : Casablanca \nProgramme provisoire : \n– 03 décembre en fin de journée | Moment convivial de bienvenue à Casablanca \n– 04 décembre | Siège de la CFCIM à Casablanca \nPrésentations : \n\nPanorama du marché marocain : Opportunités d’aﬀaires et perspectives d’investissement\nLes énergies bas carbone : un secteur d’avenir au Maroc\n\nCocktail déjeunatoire \nRencontres BtoB \nÉchanges privilégiés avec les acteurs majeurs du secteur : Agence Marocaine de Développement des Investissements et des Exportations (AMDIE)\, MASEN (groupe chargé de piloter les énergies renouvelables au Maroc)… (sous réserve de conﬁrmation) \nCocktail dînatoire \n– 05 décembre | Visite de sites \nÀ noter d’ores et déjà dans votre agenda !  \nPlus d’informations à venir.
URL:https://www.wec-france.org/evenement/journees-economiques-maroc-france-a-casablanca/
CATEGORIES:Événements CFE/CME
ORGANIZER;CN="CFE":MAILTO:comm@wec-france.org
END:VEVENT
BEGIN:VEVENT
DTSTART;TZID=Europe/Paris:20251204T090000
DTEND;TZID=Europe/Paris:20251204T140000
DTSTAMP:20260424T013956
CREATED:20251215T103412Z
LAST-MODIFIED:20251215T112241Z
UID:487264-1764838800-1764856800@www.wec-france.org
SUMMARY:Energietag 2025 : Everything in Transition: Where Is Global Energy Policy Heading?
DESCRIPTION:Energietag (Energy Day)\, the German Member Committee of the World Energy Council’s annual conference\, will take place on December 4\, 2025\, at the Berlin-Brandenburg Academy of Sciences and Humanities in Berlin. The event will run from 9:00 a.m. to 2:00 p.m. \nUnder the motto “Everything in Transition – Where is Global Energy Policy Heading?”\, this year’s Energy Day will focus on profound global transformations. Together with representatives from politics\, industry and academia\, we will discuss the implications of a changing geopolitical order for national and international energy and climate policy. What opportunities and risks do these entail for Germany and Europe? Another focus will be on the potential of Carbon Capture and Storage (CCS) as well as on current developments in the German and national and global CCS market. \nThe Energy Day will once again bring together decision-makers from around the world to discuss current energy trends and challenges to bring a global perspective into the national debate. \nThis year\, we will conclude the day with a winter highlight: In the afternoon\, together with Dentons Europe\, we invite you to an exclusive Christmas market on their rooftop terrace (Markgrafenstraße 33\, 10117 Berlin) overlooking the festively decorated Gendarmenmarkt – accompanied by mulled wine and seasonal treats – this is a special opportunity for exchange and networking in a festive atmosphere. \nWe would like to thank our partners Dentons Europe (Germany) GmbH & Co. KG\, Equinor Deutschland GmbH and Everllence SE. We look forward to exciting and insightful discussions with our high-level guests and you!
URL:https://www.wec-france.org/evenement/energietag-2025-everything-in-transition-where-is-global-energy-policy-heading/
CATEGORIES:Événements CFE/CME
END:VEVENT
END:VCALENDAR