BEGIN:VCALENDAR
VERSION:2.0
PRODID:-// - ECPv6.15.18//NONSGML v1.0//EN
CALSCALE:GREGORIAN
METHOD:PUBLISH
X-ORIGINAL-URL:https://www.wec-france.org
X-WR-CALDESC:Évènements pour 
REFRESH-INTERVAL;VALUE=DURATION:PT1H
X-Robots-Tag:noindex
X-PUBLISHED-TTL:PT1H
BEGIN:VTIMEZONE
TZID:Europe/Paris
BEGIN:DAYLIGHT
TZOFFSETFROM:+0100
TZOFFSETTO:+0200
TZNAME:CEST
DTSTART:20250330T010000
END:DAYLIGHT
BEGIN:STANDARD
TZOFFSETFROM:+0200
TZOFFSETTO:+0100
TZNAME:CET
DTSTART:20251026T010000
END:STANDARD
BEGIN:DAYLIGHT
TZOFFSETFROM:+0100
TZOFFSETTO:+0200
TZNAME:CEST
DTSTART:20260329T010000
END:DAYLIGHT
BEGIN:STANDARD
TZOFFSETFROM:+0200
TZOFFSETTO:+0100
TZNAME:CET
DTSTART:20261025T010000
END:STANDARD
BEGIN:DAYLIGHT
TZOFFSETFROM:+0100
TZOFFSETTO:+0200
TZNAME:CEST
DTSTART:20270328T010000
END:DAYLIGHT
BEGIN:STANDARD
TZOFFSETFROM:+0200
TZOFFSETTO:+0100
TZNAME:CET
DTSTART:20271031T010000
END:STANDARD
END:VTIMEZONE
BEGIN:VEVENT
DTSTART;TZID=Europe/Paris:20260316T120000
DTEND;TZID=Europe/Paris:20260316T133000
DTSTAMP:20260423T194404
CREATED:20260310T140746Z
LAST-MODIFIED:20260310T140746Z
UID:487865-1773662400-1773667800@www.wec-france.org
SUMMARY:Discussion on grid resilience in a changing geopolitical landscape
DESCRIPTION:When Spain and Portugal experienced a widespread blackout on the 28th of April 2025\, it raised urgent questions about the resilience of Europe’s interconnected power system. The disruption across the Iberian Peninsula — with limited spillover effects in neighbouring regions — highlighted how closely interlinked national electricity systems have become\, and how the rapid growth of renewable generation is reshaping system dynamics\, increasing the need for flexibility\, balancing capacity and real-time coordination. In a continent moving rapidly towards renewable integration and deeper cross-border coordination\, even short-lived interruptions can carry significant economic and societal implications. \nThe incident serves as a timely reminder that energy security and system stability remain foundational to Europe’s energy transition. What exactly happened? What vulnerabilities were exposed? And how are Nordic and Baltic transmission system operators reinforcing grid stability amid the accelerating energy transition and a shifting geopolitical landscape? \nTo explore these questions\, we are pleased to welcome: \n\nMr. Agustín Delgado Martín\, Chief Technology Officer at Iberdrola S.A;\nMr. Kalle Kilk\, Chief Executive Officer of Elering AS; and\nMr. Tuomas Rauhala\, Senior Vice President\, System Operations at Fingrid Oyj\,\n\nwho will share operational insights and strategic perspectives from Iberia\, the Baltics and the Nordics. \nJoin us for an expert discussion examining the lessons learnt and the path forward towards a more resilient European electricity system. \nVirtual webinar (link will be sent after registration). \nThe event is organised by the Finnish and Estonian member committees of the World Energy Council as part of the European region’s shared European Resilience Initiative. \nlease register for the event through Fienta plform HERE.
URL:https://www.wec-france.org/evenement/discussion-on-grid-resilience-in-a-changing-geopolitical-landscape/
CATEGORIES:Événements CFE/CME
END:VEVENT
BEGIN:VEVENT
DTSTART;TZID=Europe/Paris:20260320T183000
DTEND;TZID=Europe/Paris:20260320T200000
DTSTAMP:20260423T194404
CREATED:20260210T143328Z
LAST-MODIFIED:20260210T143328Z
UID:487794-1774031400-1774036800@www.wec-france.org
SUMMARY:Ambassadrices de l’énergie | Catherine Lagneau\, PDG du BRGM
DESCRIPTION:[ Ambassadrices de l’énergie – Dialogue ]  Pour le prochain rendez-vous « Ambassadrices de l’énergie »\, espace de dialogue informel avec une dirigeante du secteur de l’énergie\, notre secrétaire générale Marie-Line Vaiani et le groupe des jeunes professionnels (YEP France) échangeront jeudi 19 mars à 19h00 avec Catherine Lagneau\, Présidente-directrice générale du Bureau de recherches géologiques et minières (BRGM). \nCatherine Lagneau témoignera de son parcours (*)\, de son goût pour le secteur de l’énergie mais aussi de sa vision de la transition énergétique et des moyens de l’accélérer dans une approche équilibrée au sens du Trilemme de l’énergie du Conseil Mondial de l’Énergie (sécurité énergétique\, équité énergétique\, soutenabilité environnementale). \n(*) Ancienne élève de l’Ecole normale supérieure de Paris\, où elle a été diplômée en mathématiques appliquées à la finance\, puis formée à l’Ecole des mines en Business et administration publique\, Catherine Lagneau a intégré en 2007 la Direction régionale de l’industrie\, de la recherche et de l’environnement (DRIRE) de Lorraine sous l’égide de la Préfecture.\nEn 2010\, elle parfait son expérience du monde économique lorrain en rejoignant la Direction régionale des entreprises\, de la concurrence\, de la consommation\, du travail et de l’emploi\n(DIRECCTE)\, qu’elle quittera en 2012 pour devenir directrice adjointe de l’Ecole des mines d’Alès.\nDepuis 2017\, Catherine Lagneau occupe le poste de directrice déléguée de l’Ecole des mines de Paris. Elle a en outre intégré le Conseil général de l’économie au Ministère de l’économie et des finances. Elle s’y occupe notamment de la gestion du corps des mines et du suivi des carrières\, tout en étant ambassadrice ETI (entreprises de taille intermédiaire) auprès du ministre délégué à l’industrie.\nCatherine Lagneau a également participé à la rédaction du rapport sur la Haute Fonction Publique remis en 2020. Elle a été administratrice de Bpifrance de 2020 à 2023.\nLe 13 juillet 2023\, sur proposition du Conseil d’administration\, Catherine Lagneau est nommée par décret ministériel présidente du Bureau de recherches géologiques et minières (BRGM)\, en remplacement de Michèle Rousseau. Elle prend ses fonctions le 1er septembre 2023.\nElle est administratrice d’EDF depuis mai 2025. \nÉvénement sur invitation – en présentiel.\nPour plus d’information\, merci d’écrire à comm@wec-france.org.
URL:https://www.wec-france.org/evenement/ambassadrices-de-lenergie-catherine-lagneau-pdg-du-brgm/
CATEGORIES:Événements CFE/CME
END:VEVENT
BEGIN:VEVENT
DTSTART;TZID=Europe/Paris:20260323T121500
DTEND;TZID=Europe/Paris:20260323T140000
DTSTAMP:20260423T194404
CREATED:20260204T142449Z
LAST-MODIFIED:20260311T143800Z
UID:487784-1774268100-1774274400@www.wec-france.org
SUMMARY:Briefing des membres | 23.03.2026
DESCRIPTION:Le Conseil Français de l’Énergie donne rendez-vous à ses membres pour le prochain Briefing en visioconférence lundi 23 mars 2026 de 12h15 à 14h00 avec : \n\n\n\n🔹 Invités du briefing : \n\nDr Nicolas Mazzucchi\, chef du pôle Stratégie Navale et Wargaming\, Marine Nationale\, ministère des Armées | Conflits au Moyen-Orient\, routes maritimes et sécurité énergétique \nYannick Peysson\, responsable de programme R&D à IFP Energies nouvelles : Hydrogène naturel\, vers une nouvelle ressource énergétique ? \n\n🔸 Notre secrétaire générale\, Marie-Line Vaiani\, partagera l’actualité du Conseil mondial de l’énergie et du Conseil Français de l’Énergie. \n🔒 Inscription réservée aux membres du CFE.
URL:https://www.wec-france.org/evenement/briefing-des-membres-23-03-2026/
CATEGORIES:Événements CFE/CME
END:VEVENT
BEGIN:VEVENT
DTSTART;TZID=Europe/Paris:20260330T183000
DTEND;TZID=Europe/Paris:20260330T200000
DTSTAMP:20260423T194404
CREATED:20251215T103545Z
LAST-MODIFIED:20260313T152313Z
UID:487282-1774895400-1774900800@www.wec-france.org
SUMMARY:Comment développer des filières stratégiques et réduire nos dépendances industrielles dans le secteur de l’énergie : photovoltaïque\, éolien en mer\, batteries… ?
DESCRIPTION:Réunion mensuelle des Young Energy Professionals avec l’intervention d’Oliver Plantet (DGE) :\n« Comment développer des filières stratégiques et réduire nos dépendances industrielles dans le secteur de l’énergie : photovoltaïque\, éolien en mer\, batteries… ? » \nLe programme Future Energy Leaders du Conseil Mondial de l’Énergie rassemble une centaine de jeunes appelés à être demain des acteurs clés du secteur de l’énergie.\nEn écho à ce réseau international\, le Conseil Français de l’Énergie\, comité français du Conseil Mondial de l’Énergie\, a créé les YEP – Young Energy Professionals\, amenés à interagir avec les jeunes d’autres pays.\nCe collectif offre aux jeunes professionnels de l’énergie ou aux étudiants avertis en fin de formation une plateforme pour débattre des questions énergétiques pertinentes\, rencontrer les acteurs d’aujourd’hui et développer des projets propres. Ce sont aussi des occasions de réseautage et la possibilité de participer aux activités du Conseil Français de l’Énergie (groupes de travail\, interventions lors d’évènements…). Les YEP\, c’est un lieu d’échanges et de débats qui\, à l’image du Conseil Français de l’Énergie\, se situe au carrefour de toutes les énergies et toutes les technologies\, des acteurs et des métiers.
URL:https://www.wec-france.org/evenement/reunion-de-coordination-des-young-energy-professionnals-4/
CATEGORIES:Événements CFE/CME
ORGANIZER;CN="CFE":MAILTO:comm@wec-france.org
END:VEVENT
END:VCALENDAR