BEGIN:VCALENDAR
VERSION:2.0
PRODID:-// - ECPv6.15.18//NONSGML v1.0//EN
CALSCALE:GREGORIAN
METHOD:PUBLISH
X-ORIGINAL-URL:https://www.wec-france.org
X-WR-CALDESC:Évènements pour 
REFRESH-INTERVAL;VALUE=DURATION:PT1H
X-Robots-Tag:noindex
X-PUBLISHED-TTL:PT1H
BEGIN:VTIMEZONE
TZID:Europe/Paris
BEGIN:DAYLIGHT
TZOFFSETFROM:+0100
TZOFFSETTO:+0200
TZNAME:CEST
DTSTART:20250330T010000
END:DAYLIGHT
BEGIN:STANDARD
TZOFFSETFROM:+0200
TZOFFSETTO:+0100
TZNAME:CET
DTSTART:20251026T010000
END:STANDARD
BEGIN:DAYLIGHT
TZOFFSETFROM:+0100
TZOFFSETTO:+0200
TZNAME:CEST
DTSTART:20260329T010000
END:DAYLIGHT
BEGIN:STANDARD
TZOFFSETFROM:+0200
TZOFFSETTO:+0100
TZNAME:CET
DTSTART:20261025T010000
END:STANDARD
BEGIN:DAYLIGHT
TZOFFSETFROM:+0100
TZOFFSETTO:+0200
TZNAME:CEST
DTSTART:20270328T010000
END:DAYLIGHT
BEGIN:STANDARD
TZOFFSETFROM:+0200
TZOFFSETTO:+0100
TZNAME:CET
DTSTART:20271031T010000
END:STANDARD
END:VTIMEZONE
BEGIN:VEVENT
DTSTART;TZID=Europe/Paris:20260108T130000
DTEND;TZID=Europe/Paris:20260108T140000
DTSTAMP:20260423T222357
CREATED:20251215T103555Z
LAST-MODIFIED:20251215T104113Z
UID:487286-1767877200-1767880800@www.wec-france.org
SUMMARY:Briefing des membres | Black-out du 28 avril 2025 : décryptage
DESCRIPTION:Le Conseil Français de l’Énergie donne rdv à ses membres pour un « Briefing » en visioconférence jeudi 8 janvier 2026 de 13h à 14h. \n🔹 Invités du briefing : \nOlivier Arrivé\, Directeur adjoint Exploitation du Système\, RTE – Chair System Operation Committee\, ENTSO-E \n« Black-out du 28 avril 2025 : décryptage » \n🔸 Notre secrétaire générale\, Marie-Line Vaiani\, partagera l’actualité du Conseil mondial de l’énergie et du Conseil Français de l’Énergie. \n🔒 Inscription réservée aux membres du CFE.
URL:https://www.wec-france.org/evenement/briefing-des-membres-black-out-du-28-avril-2025-decryptage/
CATEGORIES:Événements CFE/CME
ORGANIZER;CN="CFE":MAILTO:comm@wec-france.org
END:VEVENT
BEGIN:VEVENT
DTSTART;TZID=Europe/Paris:20260112T180000
DTEND;TZID=Europe/Paris:20260112T190000
DTSTAMP:20260423T222357
CREATED:20260109T081734Z
LAST-MODIFIED:20260109T094246Z
UID:487606-1768240800-1768244400@www.wec-france.org
SUMMARY:Innovation and global opportunities in the nuclear energy landscape
DESCRIPTION:World Energy Council Türkiye will host Steve Chengelis\, Vice President at EPRI\, as our keynote speaker to discuss innovation and global opportunities in the nuclear energy landscape\, in particular with SMR developments. \nKey Discussion Points: \n\n\nEPRI’s global role in shaping the energy industry\n\n\nThe resurgence and renaissance of nuclear energy in today’s market\n\n\nR&D priorities and their global impact⁠\n\n\nCollaboration pathways and value creation\n\n\nThe event is free of charge\, but registration is required to receive the participation link.
URL:https://www.wec-france.org/evenement/innovation-and-global-opportunities-in-the-nuclear-energy-landscape/
CATEGORIES:Événements CFE/CME
END:VEVENT
BEGIN:VEVENT
DTSTART;TZID=Europe/Paris:20260112T183000
DTEND;TZID=Europe/Paris:20260112T200000
DTSTAMP:20260423T222357
CREATED:20251215T103536Z
LAST-MODIFIED:20251215T105520Z
UID:487280-1768242600-1768248000@www.wec-france.org
SUMMARY:Réunion de coordination des YEP
DESCRIPTION:Réunion mensuelle des Young Energy Professionals. \nLe programme Future Energy Leaders du Conseil Mondial de l’Énergie rassemble une centaine de jeunes appelés à être demain des acteurs clés du secteur de l’énergie.\nEn écho à ce réseau international\, le Conseil Français de l’Énergie\, comité français du Conseil Mondial de l’Énergie\, a créé les YEP – Young Energy Professionals\, amenés à interagir avec les jeunes d’autres pays.\nCe collectif offre aux jeunes professionnels de l’énergie ou aux étudiants avertis en fin de formation une plateforme pour débattre des questions énergétiques pertinentes\, rencontrer les acteurs d’aujourd’hui et développer des projets propres. Ce sont aussi des occasions de réseautage et la possibilité de participer aux activités du Conseil Français de l’Énergie (groupes de travail\, interventions lors d’évènements…). Les YEP\, c’est un lieu d’échanges et de débats qui\, à l’image du Conseil Français de l’Énergie\, se situe au carrefour de toutes les énergies et toutes les technologies\, des acteurs et des métiers.
URL:https://www.wec-france.org/evenement/reunion-de-coordination-des-yep/
CATEGORIES:Événements CFE/CME
ORGANIZER;CN="CFE":MAILTO:comm@wec-france.org
END:VEVENT
BEGIN:VEVENT
DTSTART;TZID=Europe/Paris:20260121T083000
DTEND;TZID=Europe/Paris:20260121T100000
DTSTAMP:20260423T222357
CREATED:20251215T103526Z
LAST-MODIFIED:20251215T110152Z
UID:487273-1768984200-1768989600@www.wec-france.org
SUMMARY:Ambassadrices de l'énergie | Nathalie Lemaître\, RTE
DESCRIPTION:[ Ambassadrices de l’énergie – Dialogue ]  Pour le prochain rendez-vous « Ambassadrices de l’énergie »\, espace de dialogue informel avec une dirigeante du secteur de l’énergie\, notre secrétaire générale Marie-Line Vaiani et le groupe des jeunes professionnels (YEP France) échangeront le mercredi 21 janvier\, de 8h30 à 10h00\, avec Nathalie Lemaître\, Membre du Directoire – Directrice générale du pôle Clients\, Systèmes et Innovation\, RTE. \nNathalie Lemaitre témoignera de son parcours (*)\, de son goût pour le secteur de l’énergie mais aussi de sa vision de la transition énergétique et des moyens de l’accélérer dans une approche équilibrée au sens du Trilemme de l’énergie du Conseil Mondial de l’Énergie (sécurité énergétique\, équité énergétique\, soutenabilité environnementale). \n(*) Diplômée de l’Institut national des sciences appliquées (INSA) de Lyon et auditrice de l’IHEDATE\, Nathalie Lemaître a commencé sa carrière en 1991 chez EDF dans le contrôle des matériaux pour le parc de production nucléaire\, avant de rejoindre le dispatching national en 1997. \nA la création de RTE\, elle participe à la mise en place des mécanismes régissant les relations entre les acteurs du système électrique et RTE. De 2004 à 2015\, elle exerce différentes fonctions de management puis de direction dans les entités en charge de l’exploitation du système électrique et participe à la coordination entre gestionnaires de réseaux européens. En 2015\, elle rejoint la délégation Ile-de-France-Normandie de RTE en tant que Directrice de la Mission Grand Paris. En 2020\, Nathalie Lemaître est Déléguée régionale pour l’Île-de-France et la Normandie. \nDepuis le 1er septembre 2025\, Nathalie Lemaître est nommée membre du Directoire de RTE\, Directrice générale du pôle Clients\, Systèmes et Innovation qui recouvre : la Direction Transformation et Exploitation du Système Electrique\, la Direction Marchés\, la Direction Clients et Services\, la Direction R&D\, la Direction Conception et Exploitation des Systèmes Informatiques et Télécom. \nÉvénement sur invitation – en présentiel.\nPour plus d’information\, merci d’écrire à comm@wec-france.org.
URL:https://www.wec-france.org/evenement/ambassadrices-de-lenergie-nathalie-lemaitre-rte/
CATEGORIES:Événements CFE/CME
END:VEVENT
BEGIN:VEVENT
DTSTART;TZID=Europe/Paris:20260127T160000
DTEND;TZID=Europe/Paris:20260127T171500
DTSTAMP:20260423T222357
CREATED:20260107T105825Z
LAST-MODIFIED:20260115T154346Z
UID:487602-1769529600-1769534100@www.wec-france.org
SUMMARY:World Energy Café | Resilience under pressure: Global lessons from recent blackout
DESCRIPTION:Recent large-scale power outages have disrupted critical infrastructure\, economic activity\, and daily life across multiple regions\, revealing mounting pressures on energy systems as they become cleaner\, more electrified\, and more interconnected. These events serve as stress tests\, exposing not just technical vulnerabilities\, but gaps in coordination\, governance\, market design\, and preparedness. \nThis WE Café will explore what recent blackouts reveal about the state of system resilience today. Moving beyond technical fault-finding\, the discussion will explore how operational practices\, emergency response protocols\, institutional cooperation\, and policy frameworks must evolve to anticipate disruptions rather than simply react to them. Bringing together experts from different parts of the system\, the session will highlight practical lessons and cross-border insights to help future-proof energy systems in an era of accelerating transition and rising complexity. \nHosted by WEC Chile\, WEC Portugal and WEC USA. \nWith: \n\nJuan Carlos Olmedo\, President of the Board at Coordinador Eléctrico Nacional\, Chile\nFrancisco Echavarren\, Researcher at the Technology Research Institute\, Spain\nAidan Tuohy\, Director of Research at EPRI\, USA\nPhilippe Joubert\, Founder & CEO at Earth on Bord\, France & Brasil\n\nRéservé aux membres du Conseil Français de l’Énergie
URL:https://www.wec-france.org/evenement/world-energy-cafe-resilience-under-pressure-global-lessons-from-recent-blackout/
CATEGORIES:Événements CFE/CME
END:VEVENT
END:VCALENDAR